BEGIN:VCALENDAR
VERSION:2.0
PRODID:spatie/icalendar-generator
DESCRIPTION:Events from Parma Heights Christian Academy
X-WR-CALDESC:Events from Parma Heights Christian Academy
REFRESH-INTERVAL;VALUE=DURATION:PT1440M
X-PUBLISHED-TTL:PT1440M
BEGIN:VTIMEZONE
TZID:America/Detroit
BEGIN:STANDARD
DTSTART:20251102T020000Z
TZOFFSETFROM:-0400
TZOFFSETTO:-0500
END:STANDARD
BEGIN:DAYLIGHT
DTSTART:20260308T020000Z
TZOFFSETFROM:-0500
TZOFFSETTO:-0400
END:DAYLIGHT
END:VTIMEZONE
BEGIN:VTIMEZONE
TZID:UTC
BEGIN:STANDARD
DTSTART:20250727T152513Z
TZOFFSETFROM:+0000
TZOFFSETTO:+0000
END:STANDARD
END:VTIMEZONE
BEGIN:VEVENT
UID:4017-194
DTSTAMP:20260423T152513Z
SUMMARY:PTF Bake Sale (6th Provides)
LOCATION:Parma Heights Christian Academy 8971 West Ridgewood Dr.  Parma Hei
 ghts OH 44130
ORGANIZER;CN=phcaweb:MAILTO:tjacobs@phcawarriors.com
DTSTART;TZID=America/Detroit:20260417T110000
DTEND;TZID=America/Detroit:20260417T124000
X-ALT-DESC;FMTTYPE=TEXT/HTML:Each item is 25 - 50 cents.  Students are all
 owed to purchase near the end of their lunch time.
CATEGORIES:Bake Sale
URL;VALUE=URI:https://phcawarriors.com/calendar/?cid=mc-948a6a8e8cd15db3249
 02317a630b853&#038;vcal=4017&#038;mc_id=4017
METHOD:PUBLISH
END:VEVENT
END:VCALENDAR