BEGIN:VCALENDAR
VERSION:2.0
PRODID:spatie/icalendar-generator
DESCRIPTION:Events from Parma Heights Christian Academy
X-WR-CALDESC:Events from Parma Heights Christian Academy
REFRESH-INTERVAL;VALUE=DURATION:PT1440M
X-PUBLISHED-TTL:PT1440M
BEGIN:VTIMEZONE
TZID:America/Detroit
BEGIN:STANDARD
DTSTART:20251102T020000Z
TZOFFSETFROM:-0400
TZOFFSETTO:-0500
END:STANDARD
BEGIN:DAYLIGHT
DTSTART:20260308T020000Z
TZOFFSETFROM:-0500
TZOFFSETTO:-0400
END:DAYLIGHT
BEGIN:STANDARD
DTSTART:20261101T020000Z
TZOFFSETFROM:-0400
TZOFFSETTO:-0500
END:STANDARD
END:VTIMEZONE
BEGIN:VTIMEZONE
TZID:UTC
BEGIN:STANDARD
DTSTART:20250728T024413Z
TZOFFSETFROM:+0000
TZOFFSETTO:+0000
END:STANDARD
END:VTIMEZONE
BEGIN:VEVENT
UID:3917-529
DTSTAMP:20260424T024413Z
SUMMARY:7th/8th Grade Overnight Field Trip
LOCATION:Washington\, D.C.
ORGANIZER;CN=phcaweb:MAILTO:tjacobs@phcawarriors.com
DTSTART;TZID=America/Detroit:20260506T071500
DTEND;TZID=America/Detroit:20260508T211500
X-ALT-DESC;FMTTYPE=TEXT/HTML:
CATEGORIES:Field Trip
URL;VALUE=URI:https://phcawarriors.com/calendar/?mc_id=3917&#038;vcal=3917
METHOD:PUBLISH
END:VEVENT
END:VCALENDAR