BEGIN:VCALENDAR
VERSION:2.0
PRODID:spatie/icalendar-generator
DESCRIPTION:Events from Parma Heights Christian Academy
X-WR-CALDESC:Events from Parma Heights Christian Academy
REFRESH-INTERVAL;VALUE=DURATION:PT1440M
X-PUBLISHED-TTL:PT1440M
BEGIN:VTIMEZONE
TZID:America/Detroit
BEGIN:STANDARD
DTSTART:20251102T020000Z
TZOFFSETFROM:-0400
TZOFFSETTO:-0500
END:STANDARD
BEGIN:DAYLIGHT
DTSTART:20260308T020000Z
TZOFFSETFROM:-0500
TZOFFSETTO:-0400
END:DAYLIGHT
BEGIN:STANDARD
DTSTART:20261101T020000Z
TZOFFSETFROM:-0400
TZOFFSETTO:-0500
END:STANDARD
END:VTIMEZONE
BEGIN:VTIMEZONE
TZID:UTC
BEGIN:STANDARD
DTSTART:20250727T170338Z
TZOFFSETFROM:+0000
TZOFFSETTO:+0000
END:STANDARD
END:VTIMEZONE
BEGIN:VEVENT
UID:4019-438
DTSTAMP:20260423T170338Z
SUMMARY:Election Day - NO SCHOOL
LOCATION:Parma Heights Christian Academy 8971 West Ridgewood Dr.  Parma Hei
 ghts OH 44130
ORGANIZER;CN=phcaweb:MAILTO:tjacobs@phcawarriors.com
DTSTART;TZID=America/Detroit;VALUE=DATE:20260505
DTEND;TZID=America/Detroit;VALUE=DATE:20260506
X-ALT-DESC;FMTTYPE=TEXT/HTML:
CATEGORIES:No School
URL;VALUE=URI:https://phcawarriors.com/calendar/?mc_id=4019&#038;vcal=4019
METHOD:PUBLISH
END:VEVENT
END:VCALENDAR